BEGIN:VCALENDAR
VERSION:2.0
PRODID:-//hacksw/handcal//NONSGML v1.0//EN
BEGIN:VEVENT
SUMMARY:badaras-st julien les rosiers
UID:9335ea69-6de9-4164-99d0-b0769a71acfc
DTSTART:20260422T220000Z
DTEND:20260423T220000Z
LOCATION:Localisation   
CATEGORIES:Sportif
STATUS:
DESCRIPTION:<p><a
 href="https://mega.nz/file/CRZgybCT#1PuV16JjmVS0-CEAjNzjp7cheyvlRZIWuWsRtVaggHw"
 target="_blank" rel="noreferrer noopener">trace GPX</a></p>
 
 <p>le
 23/04/2026</p>
 
 <p>st julien les rosiers -
 badaras </p>
 
 <p>covoiturage a voir entre vous</p>
 
 <p>RDV+depart
 rando cimetiere st julien 9h</p>
URL;VALUE=URI:https://lrcg.sportsregions.fr/evenements/2026/04/23/badaras-st-julien-les-rosiers-2442484
END:VEVENT
END:VCALENDAR
