BEGIN:VCALENDAR
VERSION:2.0
PRODID:-//hacksw/handcal//NONSGML v1.0//EN
BEGIN:VEVENT
SUMMARY:la begude - arlende
UID:7942a898-67c7-4c66-96e3-f970b886bccc
DTSTART:20260420T220000Z
DTEND:20260421T220000Z
LOCATION:Localisation   
CATEGORIES:Sportif
STATUS:
DESCRIPTION:<p><a
 href="https://mega.nz/file/KEg1GTDK#FrhXLtRCqNiGwU_vMBPFFEWNxThqTCMaLdiTetXQaVE"
 target="_blank" rel="noreferrer noopener">trace GPX</a></p>
 
 <p>LE
 21/04/2026</p>
 
 <p>la begude - arlende</p>
 
 <p>9km - denivele 140m -
 IBP bleu 27</p>
 
 <p>covoiturage : 15€ / voiture</p>
 
 <p>depart
 Babeth 9h</p>
 
 <p>parking rando defile d'argensol</p>
URL;VALUE=URI:https://lrcg.sportsregions.fr/evenements/2026/04/21/la-begude-arlende-2442478
END:VEVENT
END:VCALENDAR
