BEGIN:VCALENDAR
VERSION:2.0
PRODID:-//hacksw/handcal//NONSGML v1.0//EN
BEGIN:VEVENT
SUMMARY:Cal-- les vieilles fumades
UID:f36dbd26-4aaf-4e75-9cd5-8b8fea6f146b
DTSTART:20260401T220000Z
DTEND:20260402T220000Z
LOCATION:Localisation   
CATEGORIES:Sportif
STATUS:
DESCRIPTION:<p><a
 href="https://mega.nz/file/CJwmwIbZ#AnePk_zbnfN4PuZ50taIYgZH-qhxQIIgCUTIO_Un0dw"
 target="_blank" rel="noreferrer noopener">TRACE
 GPX</a></p>
 
 <p><strong>le 02/04/2026</strong></p>
 
 <p><strong>Cal --
 les vieilles fumades</strong></p>
 
 <p><strong>marche 12km -denivele
 160m IBP bleu34</strong></p>
 
 <p><strong>covoiturage 7€50
 /voiture</strong></p>
 
 <p><strong>depart Babeth 9h (Michel parking
 rando 9h25)</strong></p>
 
 <p><strong>parking rando - cal parking
 public</strong></p>
 
 <p> </p>
 
 <p><strong><span
 style="color:#16a085;">GPS Parking rando <span
 style="font-size:16px;">44.17714,4.023873</span></span></strong></p>
URL;VALUE=URI:https://lrcg.sportsregions.fr/evenements/2026/04/02/cal-les-vieilles-fumades-2431298
END:VEVENT
END:VCALENDAR
